BEGIN:VCALENDAR
VERSION:2.0
PRODID:-//Katwijk-Events - ECPv6.15.20//NONSGML v1.0//EN
CALSCALE:GREGORIAN
METHOD:PUBLISH
X-WR-CALNAME:Katwijk-Events
X-ORIGINAL-URL:https://katwijk-events.nl
X-WR-CALDESC:Evenementen voor Katwijk-Events
REFRESH-INTERVAL;VALUE=DURATION:PT1H
X-Robots-Tag:noindex
X-PUBLISHED-TTL:PT1H
BEGIN:VTIMEZONE
TZID:Europe/Amsterdam
BEGIN:DAYLIGHT
TZOFFSETFROM:+0100
TZOFFSETTO:+0200
TZNAME:CEST
DTSTART:20230326T010000
END:DAYLIGHT
BEGIN:STANDARD
TZOFFSETFROM:+0200
TZOFFSETTO:+0100
TZNAME:CET
DTSTART:20231029T010000
END:STANDARD
BEGIN:DAYLIGHT
TZOFFSETFROM:+0100
TZOFFSETTO:+0200
TZNAME:CEST
DTSTART:20240331T010000
END:DAYLIGHT
BEGIN:STANDARD
TZOFFSETFROM:+0200
TZOFFSETTO:+0100
TZNAME:CET
DTSTART:20241027T010000
END:STANDARD
BEGIN:DAYLIGHT
TZOFFSETFROM:+0100
TZOFFSETTO:+0200
TZNAME:CEST
DTSTART:20250330T010000
END:DAYLIGHT
BEGIN:STANDARD
TZOFFSETFROM:+0200
TZOFFSETTO:+0100
TZNAME:CET
DTSTART:20251026T010000
END:STANDARD
END:VTIMEZONE
BEGIN:VEVENT
DTSTART;TZID=Europe/Amsterdam:20240511T153000
DTEND;TZID=Europe/Amsterdam:20240511T193000
DTSTAMP:20260422T202601
CREATED:20240320T133033Z
LAST-MODIFIED:20240327T080844Z
UID:5338-1715441400-1715455800@katwijk-events.nl
SUMMARY:Exclusieve Wine Tour
DESCRIPTION:Bestel nu jouw exclusieve kaarten voor deze speciale wine tour in Katwijk inclusief 5 wijnen en mooie bijpassende hapjes. \nLet op!!! Slechts 40 kaarten\nbeschikbaar. Vol=Vol \n15.30 uur start deze tour (Leuke moederdagtip!!!) \nhttps://shop.simpleticket.eu/event/YwB60zw8 \nLocaties; \nGrand Cafe de Koningin\nKoffie-Wijnbar Goud\nRestaurant Noordzee\nRestobar Andreas\nMadame Rose
URL:https://katwijk-events.nl/evenement/exclusieve-wine-tour/
END:VEVENT
END:VCALENDAR